Workbook

Sheet ملخص النتائج
A2: نادي المتداولين العرب — نتائج مؤشر السوينغ
A3: الفريم اليومي | الأهداف 1R / 2R / 3R | النتائج تتحدث تلقائيًا من سجل الصفقات
A5: الصفقات المحسوبة | D5: نسبة النجاح الصافية | G5: صافي النتيجة R | I5: العائد المحاكى
A6: =COUNT('سجل الصفقات'!$H$8:$H$207) -> 24 | D6: =IF(A6=0,"",COUNTIFS('سجل الصفقات'!$H$8:$H$207,">0")/A6) -> 0.79166667 | G6: =IF(A6=0,"",SUM('سجل الصفقات'!$H$8:$H$207)) -> 38 | I6: =IF(A6=0,"",G6*$C$10) -> 0.38
A10: مخاطرة ثابتة لكل صفقة | C10: 0.01 | D10: العائد = مجموع R × المخاطرة؛ نسبة إلى رأس مال أولي ثابت، دون تركيب أرباح.
A12: السوق | B12: صفقات محسوبة | C12: إغلاق ستوب | D12: أعلى هدف 1 | E12: أعلى هدف 2 | F12: أعلى هدف 3 | G12: نسبة النجاح | H12: صافي R | I12: عائد محاكى | J12: متوسط R
A13: الذهب | B13: =COUNTIFS('سجل الصفقات'!$B$8:$B$207,A13,'سجل الصفقات'!$J$8:$J$207,"مكتملة") -> 6 | C13: 2 | D13: 0 | E13: 0 | F13: 4 | G13: =IF(B13=0,"",COUNTIFS('سجل الصفقات'!$B$8:$B$207,A13,'سجل الصفقات'!$J$8:$J$207,"مكتملة",'سجل الصفقات'!$H$8:$H$207,">0")/B13) -> 0.66666667 | H13: =IF(B13=0,"",SUMIFS('سجل الصفقات'!$H$8:$H$207,'سجل الصفقات'!$B$8:$B$207,A13)) -> 10 | I13: =IF(B13=0,"",H13*$C$10) -> 0.1 | J13: =IF(B13=0,"",H13/B13) -> 1.6666667
A14: اليورو دولار | B14: =COUNTIFS('سجل الصفقات'!$B$8:$B$207,A14,'سجل الصفقات'!$J$8:$J$207,"مكتملة") -> 5 | C14: =COUNTIFS('سجل الصفقات'!$B$8:$B$207,A14,'سجل الصفقات'!$J$8:$J$207,"مكتملة",'سجل الصفقات'!$E$8:$E$207,"ستوب") -> 1 | D14: =COUNTIFS('سجل الصفقات'!$B$8:$B$207,A14,'سجل الصفقات'!$J$8:$J$207,"مكتملة",'سجل الصفقات'!$D$8:$D$207,"هدف 1") -> 2 | E14: =COUNTIFS('سجل الصفقات'!$B$8:$B$207,A14,'سجل الصفقات'!$J$8:$J$207,"مكتملة",'سجل الصفقات'!$D$8:$D$207,"هدف 2") -> 1 | F14: =COUNTIFS('سجل الصفقات'!$B$8:$B$207,A14,'سجل الصفقات'!$J$8:$J$207,"مكتملة",'سجل الصفقات'!$D$8:$D$207,"هدف 3") -> 1 | G14: =IF(B14=0,"",COUNTIFS('سجل الصفقات'!$B$8:$B$207,A14,'سجل الصفقات'!$J$8:$J$207,"مكتملة",'سجل الصفقات'!$H$8:$H$207,">0")/B14) -> 0.8 | H14: =IF(B14=0,"",SUMIFS('سجل الصفقات'!$H$8:$H$207,'سجل الصفقات'!$B$8:$B$207,A14)) -> 6 | I14: =IF(B14=0,"",H14*$C$10) -> 0.06 | J14: =IF(B14=0,"",H14/B14) -> 1.2
A15: النفط | B15: =COUNTIFS('سجل الصفقات'!$B$8:$B$207,A15,'سجل الصفقات'!$J$8:$J$207,"مكتملة") -> 3 | C15: =COUNTIFS('سجل الصفقات'!$B$8:$B$207,A15,'سجل الصفقات'!$J$8:$J$207,"مكتملة",'سجل الصفقات'!$E$8:$E$207,"ستوب") -> 0 | D15: =COUNTIFS('سجل الصفقات'!$B$8:$B$207,A15,'سجل الصفقات'!$J$8:$J$207,"مكتملة",'سجل الصفقات'!$D$8:$D$207,"هدف 1") -> 0 | E15: =COUNTIFS('سجل الصفقات'!$B$8:$B$207,A15,'سجل الصفقات'!$J$8:$J$207,"مكتملة",'سجل الصفقات'!$D$8:$D$207,"هدف 2") -> 2 | F15: =COUNTIFS('سجل الصفقات'!$B$8:$B$207,A15,'سجل الصفقات'!$J$8:$J$207,"مكتملة",'سجل الصفقات'!$D$8:$D$207,"هدف 3") -> 1 | G15: =IF(B15=0,"",COUNTIFS('سجل الصفقات'!$B$8:$B$207,A15,'سجل الصفقات'!$J$8:$J$207,"مكتملة",'سجل الصفقات'!$H$8:$H$207,">0")/B15) -> 1 | H15: =IF(B15=0,"",SUMIFS('سجل الصفقات'!$H$8:$H$207,'سجل الصفقات'!$B$8:$B$207,A15)) -> 7 | I15: =IF(B15=0,"",H15*$C$10) -> 0.07 | J15: =IF(B15=0,"",H15/B15) -> 2.3333333
A16: الناسداك | B16: =COUNTIFS('سجل الصفقات'!$B$8:$B$207,A16,'سجل الصفقات'!$J$8:$J$207,"مكتملة") -> 5 | C16: =COUNTIFS('سجل الصفقات'!$B$8:$B$207,A16,'سجل الصفقات'!$J$8:$J$207,"مكتملة",'سجل الصفقات'!$E$8:$E$207,"ستوب") -> 1 | D16: =COUNTIFS('سجل الصفقات'!$B$8:$B$207,A16,'سجل الصفقات'!$J$8:$J$207,"مكتملة",'سجل الصفقات'!$D$8:$D$207,"هدف 1") -> 2 | E16: =COUNTIFS('سجل الصفقات'!$B$8:$B$207,A16,'سجل الصفقات'!$J$8:$J$207,"مكتملة",'سجل الصفقات'!$D$8:$D$207,"هدف 2") -> 0 | F16: =COUNTIFS('سجل الصفقات'!$B$8:$B$207,A16,'سجل الصفقات'!$J$8:$J$207,"مكتملة",'سجل الصفقات'!$D$8:$D$207,"هدف 3") -> 2 | G16: =IF(B16=0,"",COUNTIFS('سجل الصفقات'!$B$8:$B$207,A16,'سجل الصفقات'!$J$8:$J$207,"مكتملة",'سجل الصفقات'!$H$8:$H$207,">0")/B16) -> 0.8 | H16: =IF(B16=0,"",SUMIFS('سجل الصفقات'!$H$8:$H$207,'سجل الصفقات'!$B$8:$B$207,A16)) -> 7 | I16: =IF(B16=0,"",H16*$C$10) -> 0.07 | J16: =IF(B16=0,"",H16/B16) -> 1.4
A17: البيتكوين | B17: =COUNTIFS('سجل الصفقات'!$B$8:$B$207,A17,'سجل الصفقات'!$J$8:$J$207,"مكتملة") -> 5 | C17: =COUNTIFS('سجل الصفقات'!$B$8:$B$207,A17,'سجل الصفقات'!$J$8:$J$207,"مكتملة",'سجل الصفقات'!$E$8:$E$207,"ستوب") -> 1 | D17: =COUNTIFS('سجل الصفقات'!$B$8:$B$207,A17,'سجل الصفقات'!$J$8:$J$207,"مكتملة",'سجل الصفقات'!$D$8:$D$207,"هدف 1") -> 1 | E17: =COUNTIFS('سجل الصفقات'!$B$8:$B$207,A17,'سجل الصفقات'!$J$8:$J$207,"مكتملة",'سجل الصفقات'!$D$8:$D$207,"هدف 2") -> 1 | F17: =COUNTIFS('سجل الصفقات'!$B$8:$B$207,A17,'سجل الصفقات'!$J$8:$J$207,"مكتملة",'سجل الصفقات'!$D$8:$D$207,"هدف 3") -> 2 | G17: =IF(B17=0,"",COUNTIFS('سجل الصفقات'!$B$8:$B$207,A17,'سجل الصفقات'!$J$8:$J$207,"مكتملة",'سجل الصفقات'!$H$8:$H$207,">0")/B17) -> 0.8 | H17: =IF(B17=0,"",SUMIFS('سجل الصفقات'!$H$8:$H$207,'سجل الصفقات'!$B$8:$B$207,A17)) -> 8 | I17: =IF(B17=0,"",H17*$C$10) -> 0.08 | J17: =IF(B17=0,"",H17/B17) -> 1.6
A18: US30 | B18: =COUNTIFS('سجل الصفقات'!$B$8:$B$207,A18,'سجل الصفقات'!$J$8:$J$207,"مكتملة") -> 0 | C18: =COUNTIFS('سجل الصفقات'!$B$8:$B$207,A18,'سجل الصفقات'!$J$8:$J$207,"مكتملة",'سجل الصفقات'!$E$8:$E$207,"ستوب") -> 0 | D18: =COUNTIFS('سجل الصفقات'!$B$8:$B$207,A18,'سجل الصفقات'!$J$8:$J$207,"مكتملة",'سجل الصفقات'!$D$8:$D$207,"هدف 1") -> 0 | E18: =COUNTIFS('سجل الصفقات'!$B$8:$B$207,A18,'سجل الصفقات'!$J$8:$J$207,"مكتملة",'سجل الصفقات'!$D$8:$D$207,"هدف 2") -> 0 | F18: =COUNTIFS('سجل الصفقات'!$B$8:$B$207,A18,'سجل الصفقات'!$J$8:$J$207,"مكتملة",'سجل الصفقات'!$D$8:$D$207,"هدف 3") -> 0 | G18: =IF(B18=0,"",COUNTIFS('سجل الصفقات'!$B$8:$B$207,A18,'سجل الصفقات'!$J$8:$J$207,"مكتملة",'سجل الصفقات'!$H$8:$H$207,">0")/B18) | H18: =IF(B18=0,"",SUMIFS('سجل الصفقات'!$H$8:$H$207,'سجل الصفقات'!$B$8:$B$207,A18)) | I18: =IF(B18=0,"",H18*$C$10) | J18: =IF(B18=0,"",H18/B18)
A20: مفتوحة / بيانات ناقصة | B20: =COUNTIFS('سجل الصفقات'!$J$8:$J$207,"مفتوحة")+COUNTIFS('سجل الصفقات'!$J$8:$J$207,"راجع البيانات") -> 3 | C20: معامل الربح | D20: =IF(A6=0,"",IF(COUNTIFS('سجل الصفقات'!$H$8:$H$207,"<0")=0,"لا خسائر",SUMIFS('سجل الصفقات'!$H$8:$H$207,'سجل الصفقات'!$H$8:$H$207,">0")/-SUMIFS('سجل الصفقات'!$H$8:$H$207,'سجل الصفقات'!$H$8:$H$207,"<0"))) -> 8.6
A22: كل صفقة تُحسب مرة واحدة حسب أعلى هدف. إغلاق الستوب قد يحدث بعد الوصول لهدف سابق.
A23: الربح محسوب من الإغلاق النهائي، لا من أعلى هدف فقط. لصفقة مقسمة أدخل نتيجة R الفعلية.
A24: اترك السجل فارغًا حتى تدخل نتائجك. الصفقات المفتوحة أو الناقصة لا تدخل نسبة النجاح أو العائد.

Sheet سجل الصفقات
A2: سجل فرص السوينغ — محمد عنان
A3: املأ الخانات الذهبية. أدخل صفقة واحدة بكل صف؛ الملخص يحسب تلقائيًا.
A4: أعلى هدف: أقصى مستوى وصل إليه السعر. الإغلاق النهائي: ما تحقق فعلًا وفق طريقة خروجك.
A5: إذا قسمت الصفقة: اختر «مخصص» وأدخل R قبل التكاليف. التكاليف اختيارية بوحدة R، والفارغ = صفر.
A6: مثال: نصف الحجم عند 1R والنصف الآخر عند الستوب = 0R قبل التكاليف. المخاطرة بالملخص افتراضيًا 1%.
A7: تاريخ الإشارة | B7: السوق | C7: الاتجاه | D7: أعلى هدف وصل | E7: الإغلاق النهائي | F7: R مخصص | G7: تكاليف R | H7: صافي R | I7: عائد محاكى | J7: حالة السجل
A8: 44721 | B8: اليورو دولار | C8: بيع | D8: هدف 3 | E8: هدف 3 | H8: =IF(J8<>"مكتملة","",IF(E8="مخصص",F8,IF(E8="ستوب",-1,IF(E8="هدف 1",1,IF(E8="هدف 2",2,IF(E8="هدف 3",3,0)))))-IF(G8="",0,G8)) -> 3 | I8: =IF(ISNUMBER(H8),H8*'ملخص النتائج'!$C$10,"") -> 0.03 | J8: =IF(COUNTA(A8:G8)=0,"",IF(OR(NOT(ISNUMBER(A8)),NOT(OR(B8="الذهب",B8="اليورو دولار",B8="النفط",B8="الناسداك",B8="البيتكوين",B8="US30")),NOT(OR(C8="شراء",C8="بيع")),NOT(OR(D8="لم يصل لهدف",D8="هدف 1",D8="هدف 2",D8="هدف 3",D8="مفتوحة")),NOT(OR(E8="ستوب",E8="هدف 1",E8="هدف 2",E8="هدف 3",E8="تعادل",E8="مخصص",E8="مفتوحة")),AND(G8<>"",OR(NOT(ISNUMBER(G8)),G8<0)),AND(E8="مخصص",NOT(ISNUMBER(F8))),AND(E8<>"مخصص",F8<>"")),"راجع البيانات",IF(OR(D8="مفتوحة",E8="مفتوحة"),"مفتوحة",IF(OR(AND(E8="هدف 1",D8="لم يصل لهدف"),AND(E8="هدف 2",OR(D8="لم يصل لهدف",D8="هدف 1")),AND(E8="هدف 3",D8<>"هدف 3")),"راجع البيانات","مكتملة")))) -> مكتملة
A9: 44866 | B9: اليورو دولار | C9: بيع | D9: لم يصل لهدف | E9: ستوب | H9: =IF(J9<>"مكتملة","",IF(E9="مخصص",F9,IF(E9="ستوب",-1,IF(E9="هدف 1",1,IF(E9="هدف 2",2,IF(E9="هدف 3",3,0)))))-IF(G9="",0,G9)) -> -1 | I9: =IF(ISNUMBER(H9),H9*'ملخص النتائج'!$C$10,"") -> -0.01 | J9: =IF(COUNTA(A9:G9)=0,"",IF(OR(NOT(ISNUMBER(A9)),NOT(OR(B9="الذهب",B9="اليورو دولار",B9="النفط",B9="الناسداك",B9="البيتكوين",B9="US30")),NOT(OR(C9="شراء",C9="بيع")),NOT(OR(D9="لم يصل لهدف",D9="هدف 1",D9="هدف 2",D9="هدف 3",D9="مفتوحة")),NOT(OR(E9="ستوب",E9="هدف 1",E9="هدف 2",E9="هدف 3",E9="تعادل",E9="مخصص",E9="مفتوحة")),AND(G9<>"",OR(NOT(ISNUMBER(G9)),G9<0)),AND(E9="مخصص",NOT(ISNUMBER(F9))),AND(E9<>"مخصص",F9<>"")),"راجع البيانات",IF(OR(D9="مفتوحة",E9="مفتوحة"),"مفتوحة",IF(OR(AND(E9="هدف 1",D9="لم يصل لهدف"),AND(E9="هدف 2",OR(D9="لم يصل لهدف",D9="هدف 1")),AND(E9="هدف 3",D9<>"هدف 3")),"راجع البيانات","مكتملة")))) -> مكتملة
A10: 44998 | B10: اليورو دولار | C10: شراء | D10: هدف 2 | E10: هدف 2 | H10: =IF(J10<>"مكتملة","",IF(E10="مخصص",F10,IF(E10="ستوب",-1,IF(E10="هدف 1",1,IF(E10="هدف 2",2,IF(E10="هدف 3",3,0)))))-IF(G10="",0,G10)) -> 2 | I10: =IF(ISNUMBER(H10),H10*'ملخص النتائج'!$C$10,"") -> 0.02 | J10: =IF(COUNTA(A10:G10)=0,"",IF(OR(NOT(ISNUMBER(A10)),NOT(OR(B10="الذهب",B10="اليورو دولار",B10="النفط",B10="الناسداك",B10="البيتكوين",B10="US30")),NOT(OR(C10="شراء",C10="بيع")),NOT(OR(D10="لم يصل لهدف",D10="هدف 1",D10="هدف 2",D10="هدف 3",D10="مفتوحة")),NOT(OR(E10="ستوب",E10="هدف 1",E10="هدف 2",E10="هدف 3",E10="تعادل",E10="مخصص",E10="مفتوحة")),AND(G10<>"",OR(NOT(ISNUMBER(G10)),G10<0)),AND(E10="مخصص",NOT(ISNUMBER(F10))),AND(E10<>"مخصص",F10<>"")),"راجع البيانات",IF(OR(D10="مفتوحة",E10="مفتوحة"),"مفتوحة",IF(OR(AND(E10="هدف 1",D10="لم يصل لهدف"),AND(E10="هدف 2",OR(D10="لم يصل لهدف",D10="هدف 1")),AND(E10="هدف 3",D10<>"هدف 3")),"راجع البيانات","مكتملة")))) -> مكتملة
A11: 45273 | B11: اليورو دولار | C11: شراء | D11: هدف 1 | E11: هدف 1 | H11: =IF(J11<>"مكتملة","",IF(E11="مخصص",F11,IF(E11="ستوب",-1,IF(E11="هدف 1",1,IF(E11="هدف 2",2,IF(E11="هدف 3",3,0)))))-IF(G11="",0,G11)) -> 1 | I11: =IF(ISNUMBER(H11),H11*'ملخص النتائج'!$C$10,"") -> 0.01 | J11: =IF(COUNTA(A11:G11)=0,"",IF(OR(NOT(ISNUMBER(A11)),NOT(OR(B11="الذهب",B11="اليورو دولار",B11="النفط",B11="الناسداك",B11="البيتكوين",B11="US30")),NOT(OR(C11="شراء",C11="بيع")),NOT(OR(D11="لم يصل لهدف",D11="هدف 1",D11="هدف 2",D11="هدف 3",D11="مفتوحة")),NOT(OR(E11="ستوب",E11="هدف 1",E11="هدف 2",E11="هدف 3",E11="تعادل",E11="مخصص",E11="مفتوحة")),AND(G11<>"",OR(NOT(ISNUMBER(G11)),G11<0)),AND(E11="مخصص",NOT(ISNUMBER(F11))),AND(E11<>"مخصص",F11<>"")),"راجع البيانات",IF(OR(D11="مفتوحة",E11="مفتوحة"),"مفتوحة",IF(OR(AND(E11="هدف 1",D11="لم يصل لهدف"),AND(E11="هدف 2",OR(D11="لم يصل لهدف",D11="هدف 1")),AND(E11="هدف 3",D11<>"هدف 3")),"راجع البيانات","مكتملة")))) -> مكتملة
A12: 45875 | B12: اليورو دولار | C12: شراء | D12: هدف 1 | E12: هدف 1 | H12: =IF(J12<>"مكتملة","",IF(E12="مخصص",F12,IF(E12="ستوب",-1,IF(E12="هدف 1",1,IF(E12="هدف 2",2,IF(E12="هدف 3",3,0)))))-IF(G12="",0,G12)) -> 1 | I12: =IF(ISNUMBER(H12),H12*'ملخص النتائج'!$C$10,"") -> 0.01 | J12: =IF(COUNTA(A12:G12)=0,"",IF(OR(NOT(ISNUMBER(A12)),NOT(OR(B12="الذهب",B12="اليورو دولار",B12="النفط",B12="الناسداك",B12="البيتكوين",B12="US30")),NOT(OR(C12="شراء",C12="بيع")),NOT(OR(D12="لم يصل لهدف",D12="هدف 1",D12="هدف 2",D12="هدف 3",D12="مفتوحة")),NOT(OR(E12="ستوب",E12="هدف 1",E12="هدف 2",E12="هدف 3",E12="تعادل",E12="مخصص",E12="مفتوحة")),AND(G12<>"",OR(NOT(ISNUMBER(G12)),G12<0)),AND(E12="مخصص",NOT(ISNUMBER(F12))),AND(E12<>"مخصص",F12<>"")),"راجع البيانات",IF(OR(D12="مفتوحة",E12="مفتوحة"),"مفتوحة",IF(OR(AND(E12="هدف 1",D12="لم يصل لهدف"),AND(E12="هدف 2",OR(D12="لم يصل لهدف",D12="هدف 1")),AND(E12="هدف 3",D12<>"هدف 3")),"راجع البيانات","مكتملة")))) -> مكتملة
A13: 46189 | B13: اليورو دولار | C13: بيع | D13: هدف 1 | E13: مفتوحة | H13: =IF(J13<>"مكتملة","",IF(E13="مخصص",F13,IF(E13="ستوب",-1,IF(E13="هدف 1",1,IF(E13="هدف 2",2,IF(E13="هدف 3",3,0)))))-IF(G13="",0,G13)) | I13: =IF(ISNUMBER(H13),H13*'ملخص النتائج'!$C$10,"") | J13: =IF(COUNTA(A13:G13)=0,"",IF(OR(NOT(ISNUMBER(A13)),NOT(OR(B13="الذهب",B13="اليورو دولار",B13="النفط",B13="الناسداك",B13="البيتكوين",B13="US30")),NOT(OR(C13="شراء",C13="بيع")),NOT(OR(D13="لم يصل لهدف",D13="هدف 1",D13="هدف 2",D13="هدف 3",D13="مفتوحة")),NOT(OR(E13="ستوب",E13="هدف 1",E13="هدف 2",E13="هدف 3",E13="تعادل",E13="مخصص",E13="مفتوحة")),AND(G13<>"",OR(NOT(ISNUMBER(G13)),G13<0)),AND(E13="مخصص",NOT(ISNUMBER(F13))),AND(E13<>"مخصص",F13<>"")),"راجع البيانات",IF(OR(D13="مفتوحة",E13="مفتوحة"),"مفتوحة",IF(OR(AND(E13="هدف 1",D13="لم يصل لهدف"),AND(E13="هدف 2",OR(D13="لم يصل لهدف",D13="هدف 1")),AND(E13="هدف 3",D13<>"هدف 3")),"راجع البيانات","مكتملة")))) -> مفتوحة
A14: 45273 | B14: الذهب | C14: شراء | D14: هدف 3 | E14: هدف 3 | H14: =IF(J14<>"مكتملة","",IF(E14="مخصص",F14,IF(E14="ستوب",-1,IF(E14="هدف 1",1,IF(E14="هدف 2",2,IF(E14="هدف 3",3,0)))))-IF(G14="",0,G14)) -> 3 | I14: =IF(ISNUMBER(H14),H14*'ملخص النتائج'!$C$10,"") -> 0.03 | J14: =IF(COUNTA(A14:G14)=0,"",IF(OR(NOT(ISNUMBER(A14)),NOT(OR(B14="الذهب",B14="اليورو دولار",B14="النفط",B14="الناسداك",B14="البيتكوين",B14="US30")),NOT(OR(C14="شراء",C14="بيع")),NOT(OR(D14="لم يصل لهدف",D14="هدف 1",D14="هدف 2",D14="هدف 3",D14="مفتوحة")),NOT(OR(E14="ستوب",E14="هدف 1",E14="هدف 2",E14="هدف 3",E14="تعادل",E14="مخصص",E14="مفتوحة")),AND(G14<>"",OR(NOT(ISNUMBER(G14)),G14<0)),AND(E14="مخصص",NOT(ISNUMBER(F14))),AND(E14<>"مخصص",F14<>"")),"راجع البيانات",IF(OR(D14="مفتوحة",E14="مفتوحة"),"مفتوحة",IF(OR(AND(E14="هدف 1",D14="لم يصل لهدف"),AND(E14="هدف 2",OR(D14="لم يصل لهدف",D14="هدف 1")),AND(E14="هدف 3",D14<>"هدف 3")),"راجع البيانات","مكتملة")))) -> مكتملة
A15: 45463 | B15: الذهب | C15: شراء | D15: هدف 3 | E15: هدف 3 | H15: =IF(J15<>"مكتملة","",IF(E15="مخصص",F15,IF(E15="ستوب",-1,IF(E15="هدف 1",1,IF(E15="هدف 2",2,IF(E15="هدف 3",3,0)))))-IF(G15="",0,G15)) -> 3 | I15: =IF(ISNUMBER(H15),H15*'ملخص النتائج'!$C$10,"") -> 0.03 | J15: =IF(COUNTA(A15:G15)=0,"",IF(OR(NOT(ISNUMBER(A15)),NOT(OR(B15="الذهب",B15="اليورو دولار",B15="النفط",B15="الناسداك",B15="البيتكوين",B15="US30")),NOT(OR(C15="شراء",C15="بيع")),NOT(OR(D15="لم يصل لهدف",D15="هدف 1",D15="هدف 2",D15="هدف 3",D15="مفتوحة")),NOT(OR(E15="ستوب",E15="هدف 1",E15="هدف 2",E15="هدف 3",E15="تعادل",E15="مخصص",E15="مفتوحة")),AND(G15<>"",OR(NOT(ISNUMBER(G15)),G15<0)),AND(E15="مخصص",NOT(ISNUMBER(F15))),AND(E15<>"مخصص",F15<>"")),"راجع البيانات",IF(OR(D15="مفتوحة",E15="مفتوحة"),"مفتوحة",IF(OR(AND(E15="هدف 1",D15="لم يصل لهدف"),AND(E15="هدف 2",OR(D15="لم يصل لهدف",D15="هدف 1")),AND(E15="هدف 3",D15<>"هدف 3")),"راجع البيانات","مكتملة")))) -> مكتملة
A16: 45617 | B16: الذهب | C16: شراء | D16: هدف 3 | E16: هدف 3 | H16: =IF(J16<>"مكتملة","",IF(E16="مخصص",F16,IF(E16="ستوب",-1,IF(E16="هدف 1",1,IF(E16="هدف 2",2,IF(E16="هدف 3",3,0)))))-IF(G16="",0,G16)) -> 3 | I16: =IF(ISNUMBER(H16),H16*'ملخص النتائج'!$C$10,"") -> 0.03 | J16: =IF(COUNTA(A16:G16)=0,"",IF(OR(NOT(ISNUMBER(A16)),NOT(OR(B16="الذهب",B16="اليورو دولار",B16="النفط",B16="الناسداك",B16="البيتكوين",B16="US30")),NOT(OR(C16="شراء",C16="بيع")),NOT(OR(D16="لم يصل لهدف",D16="هدف 1",D16="هدف 2",D16="هدف 3",D16="مفتوحة")),NOT(OR(E16="ستوب",E16="هدف 1",E16="هدف 2",E16="هدف 3",E16="تعادل",E16="مخصص",E16="مفتوحة")),AND(G16<>"",OR(NOT(ISNUMBER(G16)),G16<0)),AND(E16="مخصص",NOT(ISNUMBER(F16))),AND(E16<>"مخصص",F16<>"")),"راجع البيانات",IF(OR(D16="مفتوحة",E16="مفتوحة"),"مفتوحة",IF(OR(AND(E16="هدف 1",D16="لم يصل لهدف"),AND(E16="هدف 2",OR(D16="لم يصل لهدف",D16="هدف 1")),AND(E16="هدف 3",D16<>"هدف 3")),"راجع البيانات","مكتملة")))) -> مكتملة
A17: 45756 | B17: الذهب | C17: شراء | D17: هدف 3 | E17: هدف 3 | H17: =IF(J17<>"مكتملة","",IF(E17="مخصص",F17,IF(E17="ستوب",-1,IF(E17="هدف 1",1,IF(E17="هدف 2",2,IF(E17="هدف 3",3,0)))))-IF(G17="",0,G17)) -> 3 | I17: =IF(ISNUMBER(H17),H17*'ملخص النتائج'!$C$10,"") -> 0.03 | J17: =IF(COUNTA(A17:G17)=0,"",IF(OR(NOT(ISNUMBER(A17)),NOT(OR(B17="الذهب",B17="اليورو دولار",B17="النفط",B17="الناسداك",B17="البيتكوين",B17="US30")),NOT(OR(C17="شراء",C17="بيع")),NOT(OR(D17="لم يصل لهدف",D17="هدف 1",D17="هدف 2",D17="هدف 3",D17="مفتوحة")),NOT(OR(E17="ستوب",E17="هدف 1",E17="هدف 2",E17="هدف 3",E17="تعادل",E17="مخصص",E17="مفتوحة")),AND(G17<>"",OR(NOT(ISNUMBER(G17)),G17<0)),AND(E17="مخصص",NOT(ISNUMBER(F17))),AND(E17<>"مخصص",F17<>"")),"راجع البيانات",IF(OR(D17="مفتوحة",E17="مفتوحة"),"مفتوحة",IF(OR(AND(E17="هدف 1",D17="لم يصل لهدف"),AND(E17="هدف 2",OR(D17="لم يصل لهدف",D17="هدف 1")),AND(E17="هدف 3",D17<>"هدف 3")),"راجع البيانات","مكتملة")))) -> مكتملة
A18: 46056 | B18: الذهب | C18: شراء | D18: لم يصل لهدف | E18: ستوب | H18: =IF(J18<>"مكتملة","",IF(E18="مخصص",F18,IF(E18="ستوب",-1,IF(E18="هدف 1",1,IF(E18="هدف 2",2,IF(E18="هدف 3",3,0)))))-IF(G18="",0,G18)) -> -1 | I18: =IF(ISNUMBER(H18),H18*'ملخص النتائج'!$C$10,"") -> -0.01 | J18: =IF(COUNTA(A18:G18)=0,"",IF(OR(NOT(ISNUMBER(A18)),NOT(OR(B18="الذهب",B18="اليورو دولار",B18="النفط",B18="الناسداك",B18="البيتكوين",B18="US30")),NOT(OR(C18="شراء",C18="بيع")),NOT(OR(D18="لم يصل لهدف",D18="هدف 1",D18="هدف 2",D18="هدف 3",D18="مفتوحة")),NOT(OR(E18="ستوب",E18="هدف 1",E18="هدف 2",E18="هدف 3",E18="تعادل",E18="مخصص",E18="مفتوحة")),AND(G18<>"",OR(NOT(ISNUMBER(G18)),G18<0)),AND(E18="مخصص",NOT(ISNUMBER(F18))),AND(E18<>"مخصص",F18<>"")),"راجع البيانات",IF(OR(D18="مفتوحة",E18="مفتوحة"),"مفتوحة",IF(OR(AND(E18="هدف 1",D18="لم يصل لهدف"),AND(E18="هدف 2",OR(D18="لم يصل لهدف",D18="هدف 1")),AND(E18="هدف 3",D18<>"هدف 3")),"راجع البيانات","مكتملة")))) -> مكتملة
A19: 46129 | B19: الذهب | C19: شراء | D19: لم يصل لهدف | E19: ستوب | H19: =IF(J19<>"مكتملة","",IF(E19="مخصص",F19,IF(E19="ستوب",-1,IF(E19="هدف 1",1,IF(E19="هدف 2",2,IF(E19="هدف 3",3,0)))))-IF(G19="",0,G19)) -> -1 | I19: =IF(ISNUMBER(H19),H19*'ملخص النتائج'!$C$10,"") -> -0.01 | J19: =IF(COUNTA(A19:G19)=0,"",IF(OR(NOT(ISNUMBER(A19)),NOT(OR(B19="الذهب",B19="اليورو دولار",B19="النفط",B19="الناسداك",B19="البيتكوين",B19="US30")),NOT(OR(C19="شراء",C19="بيع")),NOT(OR(D19="لم يصل لهدف",D19="هدف 1",D19="هدف 2",D19="هدف 3",D19="مفتوحة")),NOT(OR(E19="ستوب",E19="هدف 1",E19="هدف 2",E19="هدف 3",E19="تعادل",E19="مخصص",E19="مفتوحة")),AND(G19<>"",OR(NOT(ISNUMBER(G19)),G19<0)),AND(E19="مخصص",NOT(ISNUMBER(F19))),AND(E19<>"مخصص",F19<>"")),"راجع البيانات",IF(OR(D19="مفتوحة",E19="مفتوحة"),"مفتوحة",IF(OR(AND(E19="هدف 1",D19="لم يصل لهدف"),AND(E19="هدف 2",OR(D19="لم يصل لهدف",D19="هدف 1")),AND(E19="هدف 3",D19<>"هدف 3")),"راجع البيانات","مكتملة")))) -> مكتملة
... A34: 46261 | B34: الناسداك | C34: شراء | D34: هدف 2 | E34: مفتوحة | H34: =IF(J34<>"مكتملة","",IF(E34="مخصص",F34,IF(E34="ستوب",-1,IF(E34="هدف 1",1,IF(E34="هدف 2",2,IF(E34="هدف 3",3,0)))))-IF(G34="",0,G34)) | I34: =IF(ISNUMBER(H34),H34*'ملخص النتائج'!$C$10,"") | J34: =IF(COUNTA(A34:G34)=0,"",IF(OR(NOT(ISNUMBER(A34)),NOT(OR(B34="الذهب",B34="اليورو دولار",B34="النفط",B34="الناسداك",B34="البيتكوين",B34="US30")),NOT(OR(C34="شراء",C34="بيع")),NOT(OR(D34="لم يصل لهدف",D34="هدف 1",D34="هدف 2",D34="هدف 3",D34="مفتوحة")),NOT(OR(E34="ستوب",E34="هدف 1",E34="هدف 2",E34="هدف 3",E34="تعادل",E34="مخصص",E34="مفتوحة")),AND(G34<>"",OR(NOT(ISNUMBER(G34)),G34<0)),AND(E34="مخصص",NOT(ISNUMBER(F34))),AND(E34<>"مخصص",F34<>"")),"راجع البيانات",IF(OR(D34="مفتوحة",E34="مفتوحة"),"مفتوحة",IF(OR(AND(E34="هدف 1",D34="لم يصل لهدف"),AND(E34="هدف 2",OR(D34="لم يصل لهدف",D34="هدف 1")),AND(E34="هدف 3",D34<>"هدف 3")),"راجع البيانات","مكتملة")))) -> مفتوحة
H35: =IF(J35<>"مكتملة","",IF(E35="مخصص",F35,IF(E35="ستوب",-1,IF(E35="هدف 1",1,IF(E35="هدف 2",2,IF(E35="هدف 3",3,0)))))-IF(G35="",0,G35)) | I35: =IF(ISNUMBER(H35),H35*'ملخص النتائج'!$C$10,"") | J35: =IF(COUNTA(A35:G35)=0,"",IF(OR(NOT(ISNUMBER(A35)),NOT(OR(B35="الذهب",B35="اليورو دولار",B35="النفط",B35="الناسداك",B35="البيتكوين",B35="US30")),NOT(OR(C35="شراء",C35="بيع")),NOT(OR(D35="لم يصل لهدف",D35="هدف 1",D35="هدف 2",D35="هدف 3",D35="مفتوحة")),NOT(OR(E35="ستوب",E35="هدف 1",E35="هدف 2",E35="هدف 3",E35="تعادل",E35="مخصص",E35="مفتوحة")),AND(G35<>"",OR(NOT(ISNUMBER(G35)),G35<0)),AND(E35="مخصص",NOT(ISNUMBER(F35))),AND(E35<>"مخصص",F35<>"")),"راجع البيانات",IF(OR(D35="مفتوحة",E35="مفتوحة"),"مفتوحة",IF(OR(AND(E35="هدف 1",D35="لم يصل لهدف"),AND(E35="هدف 2",OR(D35="لم يصل لهدف",D35="هدف 1")),AND(E35="هدف 3",D35<>"هدف 3")),"راجع البيانات","مكتملة"))))
H36: =IF(J36<>"مكتملة","",IF(E36="مخصص",F36,IF(E36="ستوب",-1,IF(E36="هدف 1",1,IF(E36="هدف 2",2,IF(E36="هدف 3",3,0)))))-IF(G36="",0,G36)) | I36: =IF(ISNUMBER(H36),H36*'ملخص النتائج'!$C$10,"") | J36: =IF(COUNTA(A36:G36)=0,"",IF(OR(NOT(ISNUMBER(A36)),NOT(OR(B36="الذهب",B36="اليورو دولار",B36="النفط",B36="الناسداك",B36="البيتكوين",B36="US30")),NOT(OR(C36="شراء",C36="بيع")),NOT(OR(D36="لم يصل لهدف",D36="هدف 1",D36="هدف 2",D36="هدف 3",D36="مفتوحة")),NOT(OR(E36="ستوب",E36="هدف 1",E36="هدف 2",E36="هدف 3",E36="تعادل",E36="مخصص",E36="مفتوحة")),AND(G36<>"",OR(NOT(ISNUMBER(G36)),G36<0)),AND(E36="مخصص",NOT(ISNUMBER(F36))),AND(E36<>"مخصص",F36<>"")),"راجع البيانات",IF(OR(D36="مفتوحة",E36="مفتوحة"),"مفتوحة",IF(OR(AND(E36="هدف 1",D36="لم يصل لهدف"),AND(E36="هدف 2",OR(D36="لم يصل لهدف",D36="هدف 1")),AND(E36="هدف 3",D36<>"هدف 3")),"راجع البيانات","مكتملة"))))
H37: =IF(J37<>"مكتملة","",IF(E37="مخصص",F37,IF(E37="ستوب",-1,IF(E37="هدف 1",1,IF(E37="هدف 2",2,IF(E37="هدف 3",3,0)))))-IF(G37="",0,G37)) | I37: =IF(ISNUMBER(H37),H37*'ملخص النتائج'!$C$10,"") | J37: =IF(COUNTA(A37:G37)=0,"",IF(OR(NOT(ISNUMBER(A37)),NOT(OR(B37="الذهب",B37="اليورو دولار",B37="النفط",B37="الناسداك",B37="البيتكوين",B37="US30")),NOT(OR(C37="شراء",C37="بيع")),NOT(OR(D37="لم يصل لهدف",D37="هدف 1",D37="هدف 2",D37="هدف 3",D37="مفتوحة")),NOT(OR(E37="ستوب",E37="هدف 1",E37="هدف 2",E37="هدف 3",E37="تعادل",E37="مخصص",E37="مفتوحة")),AND(G37<>"",OR(NOT(ISNUMBER(G37)),G37<0)),AND(E37="مخصص",NOT(ISNUMBER(F37))),AND(E37<>"مخصص",F37<>"")),"راجع البيانات",IF(OR(D37="مفتوحة",E37="مفتوحة"),"مفتوحة",IF(OR(AND(E37="هدف 1",D37="لم يصل لهدف"),AND(E37="هدف 2",OR(D37="لم يصل لهدف",D37="هدف 1")),AND(E37="هدف 3",D37<>"هدف 3")),"راجع البيانات","مكتملة"))))
H38: =IF(J38<>"مكتملة","",IF(E38="مخصص",F38,IF(E38="ستوب",-1,IF(E38="هدف 1",1,IF(E38="هدف 2",2,IF(E38="هدف 3",3,0)))))-IF(G38="",0,G38)) | I38: =IF(ISNUMBER(H38),H38*'ملخص النتائج'!$C$10,"") | J38: =IF(COUNTA(A38:G38)=0,"",IF(OR(NOT(ISNUMBER(A38)),NOT(OR(B38="الذهب",B38="اليورو دولار",B38="النفط",B38="الناسداك",B38="البيتكوين",B38="US30")),NOT(OR(C38="شراء",C38="بيع")),NOT(OR(D38="لم يصل لهدف",D38="هدف 1",D38="هدف 2",D38="هدف 3",D38="مفتوحة")),NOT(OR(E38="ستوب",E38="هدف 1",E38="هدف 2",E38="هدف 3",E38="تعادل",E38="مخصص",E38="مفتوحة")),AND(G38<>"",OR(NOT(ISNUMBER(G38)),G38<0)),AND(E38="مخصص",NOT(ISNUMBER(F38))),AND(E38<>"مخصص",F38<>"")),"راجع البيانات",IF(OR(D38="مفتوحة",E38="مفتوحة"),"مفتوحة",IF(OR(AND(E38="هدف 1",D38="لم يصل لهدف"),AND(E38="هدف 2",OR(D38="لم يصل لهدف",D38="هدف 1")),AND(E38="هدف 3",D38<>"هدف 3")),"راجع البيانات","مكتملة"))))
H39: =IF(J39<>"مكتملة","",IF(E39="مخصص",F39,IF(E39="ستوب",-1,IF(E39="هدف 1",1,IF(E39="هدف 2",2,IF(E39="هدف 3",3,0)))))-IF(G39="",0,G39)) | I39: =IF(ISNUMBER(H39),H39*'ملخص النتائج'!$C$10,"") | J39: =IF(COUNTA(A39:G39)=0,"",IF(OR(NOT(ISNUMBER(A39)),NOT(OR(B39="الذهب",B39="اليورو دولار",B39="النفط",B39="الناسداك",B39="البيتكوين",B39="US30")),NOT(OR(C39="شراء",C39="بيع")),NOT(OR(D39="لم يصل لهدف",D39="هدف 1",D39="هدف 2",D39="هدف 3",D39="مفتوحة")),NOT(OR(E39="ستوب",E39="هدف 1",E39="هدف 2",E39="هدف 3",E39="تعادل",E39="مخصص",E39="مفتوحة")),AND(G39<>"",OR(NOT(ISNUMBER(G39)),G39<0)),AND(E39="مخصص",NOT(ISNUMBER(F39))),AND(E39<>"مخصص",F39<>"")),"راجع البيانات",IF(OR(D39="مفتوحة",E39="مفتوحة"),"مفتوحة",IF(OR(AND(E39="هدف 1",D39="لم يصل لهدف"),AND(E39="هدف 2",OR(D39="لم يصل لهدف",D39="هدف 1")),AND(E39="هدف 3",D39<>"هدف 3")),"راجع البيانات","مكتملة"))))
H40: =IF(J40<>"مكتملة","",IF(E40="مخصص",F40,IF(E40="ستوب",-1,IF(E40="هدف 1",1,IF(E40="هدف 2",2,IF(E40="هدف 3",3,0)))))-IF(G40="",0,G40)) | I40: =IF(ISNUMBER(H40),H40*'ملخص النتائج'!$C$10,"") | J40: =IF(COUNTA(A40:G40)=0,"",IF(OR(NOT(ISNUMBER(A40)),NOT(OR(B40="الذهب",B40="اليورو دولار",B40="النفط",B40="الناسداك",B40="البيتكوين",B40="US30")),NOT(OR(C40="شراء",C40="بيع")),NOT(OR(D40="لم يصل لهدف",D40="هدف 1",D40="هدف 2",D40="هدف 3",D40="مفتوحة")),NOT(OR(E40="ستوب",E40="هدف 1",E40="هدف 2",E40="هدف 3",E40="تعادل",E40="مخصص",E40="مفتوحة")),AND(G40<>"",OR(NOT(ISNUMBER(G40)),G40<0)),AND(E40="مخصص",NOT(ISNUMBER(F40))),AND(E40<>"مخصص",F40<>"")),"راجع البيانات",IF(OR(D40="مفتوحة",E40="مفتوحة"),"مفتوحة",IF(OR(AND(E40="هدف 1",D40="لم يصل لهدف"),AND(E40="هدف 2",OR(D40="لم يصل لهدف",D40="هدف 1")),AND(E40="هدف 3",D40<>"هدف 3")),"راجع البيانات","مكتملة"))))
H41: =IF(J41<>"مكتملة","",IF(E41="مخصص",F41,IF(E41="ستوب",-1,IF(E41="هدف 1",1,IF(E41="هدف 2",2,IF(E41="هدف 3",3,0)))))-IF(G41="",0,G41)) | I41: =IF(ISNUMBER(H41),H41*'ملخص النتائج'!$C$10,"") | J41: =IF(COUNTA(A41:G41)=0,"",IF(OR(NOT(ISNUMBER(A41)),NOT(OR(B41="الذهب",B41="اليورو دولار",B41="النفط",B41="الناسداك",B41="البيتكوين",B41="US30")),NOT(OR(C41="شراء",C41="بيع")),NOT(OR(D41="لم يصل لهدف",D41="هدف 1",D41="هدف 2",D41="هدف 3",D41="مفتوحة")),NOT(OR(E41="ستوب",E41="هدف 1",E41="هدف 2",E41="هدف 3",E41="تعادل",E41="مخصص",E41="مفتوحة")),AND(G41<>"",OR(NOT(ISNUMBER(G41)),G41<0)),AND(E41="مخصص",NOT(ISNUMBER(F41))),AND(E41<>"مخصص",F41<>"")),"راجع البيانات",IF(OR(D41="مفتوحة",E41="مفتوحة"),"مفتوحة",IF(OR(AND(E41="هدف 1",D41="لم يصل لهدف"),AND(E41="هدف 2",OR(D41="لم يصل لهدف",D41="هدف 1")),AND(E41="هدف 3",D41<>"هدف 3")),"راجع البيانات","مكتملة"))))
H42: =IF(J42<>"مكتملة","",IF(E42="مخصص",F42,IF(E42="ستوب",-1,IF(E42="هدف 1",1,IF(E42="هدف 2",2,IF(E42="هدف 3",3,0)))))-IF(G42="",0,G42)) | I42: =IF(ISNUMBER(H42),H42*'ملخص النتائج'!$C$10,"") | J42: =IF(COUNTA(A42:G42)=0,"",IF(OR(NOT(ISNUMBER(A42)),NOT(OR(B42="الذهب",B42="اليورو دولار",B42="النفط",B42="الناسداك",B42="البيتكوين",B42="US30")),NOT(OR(C42="شراء",C42="بيع")),NOT(OR(D42="لم يصل لهدف",D42="هدف 1",D42="هدف 2",D42="هدف 3",D42="مفتوحة")),NOT(OR(E42="ستوب",E42="هدف 1",E42="هدف 2",E42="هدف 3",E42="تعادل",E42="مخصص",E42="مفتوحة")),AND(G42<>"",OR(NOT(ISNUMBER(G42)),G42<0)),AND(E42="مخصص",NOT(ISNUMBER(F42))),AND(E42<>"مخصص",F42<>"")),"راجع البيانات",IF(OR(D42="مفتوحة",E42="مفتوحة"),"مفتوحة",IF(OR(AND(E42="هدف 1",D42="لم يصل لهدف"),AND(E42="هدف 2",OR(D42="لم يصل لهدف",D42="هدف 1")),AND(E42="هدف 3",D42<>"هدف 3")),"راجع البيانات","مكتملة"))))
H43: =IF(J43<>"مكتملة","",IF(E43="مخصص",F43,IF(E43="ستوب",-1,IF(E43="هدف 1",1,IF(E43="هدف 2",2,IF(E43="هدف 3",3,0)))))-IF(G43="",0,G43)) | I43: =IF(ISNUMBER(H43),H43*'ملخص النتائج'!$C$10,"") | J43: =IF(COUNTA(A43:G43)=0,"",IF(OR(NOT(ISNUMBER(A43)),NOT(OR(B43="الذهب",B43="اليورو دولار",B43="النفط",B43="الناسداك",B43="البيتكوين",B43="US30")),NOT(OR(C43="شراء",C43="بيع")),NOT(OR(D43="لم يصل لهدف",D43="هدف 1",D43="هدف 2",D43="هدف 3",D43="مفتوحة")),NOT(OR(E43="ستوب",E43="هدف 1",E43="هدف 2",E43="هدف 3",E43="تعادل",E43="مخصص",E43="مفتوحة")),AND(G43<>"",OR(NOT(ISNUMBER(G43)),G43<0)),AND(E43="مخصص",NOT(ISNUMBER(F43))),AND(E43<>"مخصص",F43<>"")),"راجع البيانات",IF(OR(D43="مفتوحة",E43="مفتوحة"),"مفتوحة",IF(OR(AND(E43="هدف 1",D43="لم يصل لهدف"),AND(E43="هدف 2",OR(D43="لم يصل لهدف",D43="هدف 1")),AND(E43="هدف 3",D43<>"هدف 3")),"راجع البيانات","مكتملة"))))
H44: =IF(J44<>"مكتملة","",IF(E44="مخصص",F44,IF(E44="ستوب",-1,IF(E44="هدف 1",1,IF(E44="هدف 2",2,IF(E44="هدف 3",3,0)))))-IF(G44="",0,G44)) | I44: =IF(ISNUMBER(H44),H44*'ملخص النتائج'!$C$10,"") | J44: =IF(COUNTA(A44:G44)=0,"",IF(OR(NOT(ISNUMBER(A44)),NOT(OR(B44="الذهب",B44="اليورو دولار",B44="النفط",B44="الناسداك",B44="البيتكوين",B44="US30")),NOT(OR(C44="شراء",C44="بيع")),NOT(OR(D44="لم يصل لهدف",D44="هدف 1",D44="هدف 2",D44="هدف 3",D44="مفتوحة")),NOT(OR(E44="ستوب",E44="هدف 1",E44="هدف 2",E44="هدف 3",E44="تعادل",E44="مخصص",E44="مفتوحة")),AND(G44<>"",OR(NOT(ISNUMBER(G44)),G44<0)),AND(E44="مخصص",NOT(ISNUMBER(F44))),AND(E44<>"مخصص",F44<>"")),"راجع البيانات",IF(OR(D44="مفتوحة",E44="مفتوحة"),"مفتوحة",IF(OR(AND(E44="هدف 1",D44="لم يصل لهدف"),AND(E44="هدف 2",OR(D44="لم يصل لهدف",D44="هدف 1")),AND(E44="هدف 3",D44<>"هدف 3")),"راجع البيانات","مكتملة"))))
H45: =IF(J45<>"مكتملة","",IF(E45="مخصص",F45,IF(E45="ستوب",-1,IF(E45="هدف 1",1,IF(E45="هدف 2",2,IF(E45="هدف 3",3,0)))))-IF(G45="",0,G45)) | I45: =IF(ISNUMBER(H45),H45*'ملخص النتائج'!$C$10,"") | J45: =IF(COUNTA(A45:G45)=0,"",IF(OR(NOT(ISNUMBER(A45)),NOT(OR(B45="الذهب",B45="اليورو دولار",B45="النفط",B45="الناسداك",B45="البيتكوين",B45="US30")),NOT(OR(C45="شراء",C45="بيع")),NOT(OR(D45="لم يصل لهدف",D45="هدف 1",D45="هدف 2",D45="هدف 3",D45="مفتوحة")),NOT(OR(E45="ستوب",E45="هدف 1",E45="هدف 2",E45="هدف 3",E45="تعادل",E45="مخصص",E45="مفتوحة")),AND(G45<>"",OR(NOT(ISNUMBER(G45)),G45<0)),AND(E45="مخصص",NOT(ISNUMBER(F45))),AND(E45<>"مخصص",F45<>"")),"راجع البيانات",IF(OR(D45="مفتوحة",E45="مفتوحة"),"مفتوحة",IF(OR(AND(E45="هدف 1",D45="لم يصل لهدف"),AND(E45="هدف 2",OR(D45="لم يصل لهدف",D45="هدف 1")),AND(E45="هدف 3",D45<>"هدف 3")),"راجع البيانات","مكتملة"))))
H46: =IF(J46<>"مكتملة","",IF(E46="مخصص",F46,IF(E46="ستوب",-1,IF(E46="هدف 1",1,IF(E46="هدف 2",2,IF(E46="هدف 3",3,0)))))-IF(G46="",0,G46)) | I46: =IF(ISNUMBER(H46),H46*'ملخص النتائج'!$C$10,"") | J46: =IF(COUNTA(A46:G46)=0,"",IF(OR(NOT(ISNUMBER(A46)),NOT(OR(B46="الذهب",B46="اليورو دولار",B46="النفط",B46="الناسداك",B46="البيتكوين",B46="US30")),NOT(OR(C46="شراء",C46="بيع")),NOT(OR(D46="لم يصل لهدف",D46="هدف 1",D46="هدف 2",D46="هدف 3",D46="مفتوحة")),NOT(OR(E46="ستوب",E46="هدف 1",E46="هدف 2",E46="هدف 3",E46="تعادل",E46="مخصص",E46="مفتوحة")),AND(G46<>"",OR(NOT(ISNUMBER(G46)),G46<0)),AND(E46="مخصص",NOT(ISNUMBER(F46))),AND(E46<>"مخصص",F46<>"")),"راجع البيانات",IF(OR(D46="مفتوحة",E46="مفتوحة"),"مفتوحة",IF(OR(AND(E46="هدف 1",D46="لم يصل لهدف"),AND(E46="هدف 2",OR(D46="لم يصل لهدف",D46="هدف 1")),AND(E46="هدف 3",D46<>"هدف 3")),"راجع البيانات","مكتملة"))))
... H207: =IF(J207<>"مكتملة","",IF(E207="مخصص",F207,IF(E207="ستوب",-1,IF(E207="هدف 1",1,IF(E207="هدف 2",2,IF(E207="هدف 3",3,0)))))-IF(G207="",0,G207)) | I207: =IF(ISNUMBER(H207),H207*'ملخص النتائج'!$C$10,"") | J207: =IF(COUNTA(A207:G207)=0,"",IF(OR(NOT(ISNUMBER(A207)),NOT(OR(B207="الذهب",B207="اليورو دولار",B207="النفط",B207="الناسداك",B207="البيتكوين",B207="US30")),NOT(OR(C207="شراء",C207="بيع")),NOT(OR(D207="لم يصل لهدف",D207="هدف 1",D207="هدف 2",D207="هدف 3",D207="مفتوحة")),NOT(OR(E207="ستوب",E207="هدف 1",E207="هدف 2",E207="هدف 3",E207="تعادل",E207="مخصص",E207="مفتوحة")),AND(G207<>"",OR(NOT(ISNUMBER(G207)),G207<0)),AND(E207="مخصص",NOT(ISNUMBER(F207))),AND(E207<>"مخصص",F207<>"")),"راجع البيانات",IF(OR(D207="مفتوحة",E207="مفتوحة"),"مفتوحة",IF(OR(AND(E207="هدف 1",D207="لم يصل لهدف"),AND(E207="هدف 2",OR(D207="لم يصل لهدف",D207="هدف 1")),AND(E207="هدف 3",D207<>"هدف 3")),"راجع البيانات","مكتملة"))))
